Workbook

Sheet DJA
A1: DJA - 2011 MPB Update
A2: Area (ha) of MPB Attack Severity by Age Class and Density within Pine Stands (Pine Species >= 30% density - The Pine Mask)
A3: TSA Area | B3: 3180877.4
A4: Pine Mask Unharvested Area | B4: =SUM(data!D2:D200) -> 761391.51
A6: MPB Attack as a percentage of Pine affected within the VRI Stand
A8: MPB Attack Severity
C9: Light (<11%) | E9: Moderate (11-30%) | G9: Severe (31-50%) | I9: Very Severe (>50%) | K9: All Severity | M9: No Attack
A10: Age Class | B10: Pine Density | C10: Area (ha) | D10: Percent of all Pine (Pine Mask) | E10: Area (ha) | F10: Percent of all Pine (Pine Mask) | G10: Area (ha) | H10: Percent of all Pine (Pine Mask) | I10: Area (ha) | J10: Percent of all Pine (Pine Mask) | K10: Total Area of Attack (ha) | L10: Percent of all Pine (Pine Mask) | M10: Area (ha) | N10: Percent of all Pine (Pine Mask)
A11: 21-40 years | B11: 30-70% | C11: {=SUM(IF(data!A2:A200="21-40 years",IF(data!B2:B200="30-70%",IF(data!C2:C200="Light (<11%)",data!D2:D200,0),0),0))} -> 3779.7502 | D11: =C11/($K$20+$M$20) -> 0.0051723788 | E11: {=SUM(IF(data!A2:A200="21-40 years",IF(data!B2:B200="30-70%",IF(data!C2:C200="Moderate (11-30%)",data!D2:D200,0),0),0))} -> 1898.0542 | F11: =E11/($K$20+$M$20) -> 0.0025973821 | G11: {=SUM(IF(data!A2:A200="21-40 years",IF(data!B2:B200="30-70%",IF(data!C2:C200="Severe (31-50%)",data!D2:D200,0),0),0))} -> 806.7876 | H11: =G11/($K$20+$M$20) -> 0.0011040441 | I11: {=SUM(IF(data!A2:A200="21-40 years",IF(data!B2:B200="30-70%",IF(data!C2:C200="Very Severe (>50%)",data!D2:D200,0),0),0))} -> 11324.383 | J11: =I11/($K$20+$M$20) -> 0.015496791 | K11: =SUM(C11,E11,G11,I11) -> 17808.975 | L11: =K11/($K$20+$M$20) -> 0.024370596 | M11: {=SUM(IF(data!A2:A200="21-40 years",IF(data!B2:B200="30-70%",IF(data!C2:C200="No Attack",data!D2:D200,0),0),0))} -> 6551.4438 | N11: =M11/($K$20+$M$20) -> 0.008965288
B12: >70% | C12: {=SUM(IF(data!A2:A200="21-40 years",IF(data!B2:B200=">70%",IF(data!C2:C200="Light (<11%)",data!D2:D200,0),0),0))} -> 3191.4433 | D12: =C12/($K$20+$M$20) -> 0.0043673134 | E12: {=SUM(IF(data!A2:A200="21-40 years",IF(data!B2:B200=">70%",IF(data!C2:C200="Moderate (11-30%)",data!D2:D200,0),0),0))} -> 2076.7548 | F12: =E12/($K$20+$M$20) -> 0.0028419239 | G12: {=SUM(IF(data!A2:A200="21-40 years",IF(data!B2:B200=">70%",IF(data!C2:C200="Severe (31-50%)",data!D2:D200,0),0),0))} -> 838.13258 | H12: =G12/($K$20+$M$20) -> 0.001146938 | I12: {=SUM(IF(data!A2:A200="21-40 years",IF(data!B2:B200=">70%",IF(data!C2:C200="Very Severe (>50%)",data!D2:D200,0),0),0))} -> 8911.1568 | J12: =I12/($K$20+$M$20) -> 0.012194425 | K12: =SUM(C12,E12,G12,I12) -> 15017.487 | L12: =K12/($K$20+$M$20) -> 0.0205506 | M12: {=SUM(IF(data!A2:A200="21-40 years",IF(data!B2:B200=">70%",IF(data!C2:C200="No Attack",data!D2:D200,0),0),0))} -> 4565.3636 | N12: =M12/($K$20+$M$20) -> 0.0062474473
A14: 41-60 years | B14: 30-70% | C14: {=SUM(IF(data!A2:A200="41-60 years",IF(data!B2:B200="30-70%",IF(data!C2:C200="Light (<11%)",data!D2:D200,0),0),0))} -> 154.36725 | D14: =C14/($K$20+$M$20) -> 0.00021124303 | E14: {=SUM(IF(data!A2:A200="41-60 years",IF(data!B2:B200="30-70%",IF(data!C2:C200="Moderate (11-30%)",data!D2:D200,0),0),0))} -> 460.35226 | F14: =E14/($K$20+$M$20) -> 0.00062996657 | G14: {=SUM(IF(data!A2:A200="41-60 years",IF(data!B2:B200="30-70%",IF(data!C2:C200="Severe (31-50%)",data!D2:D200,0),0),0))} -> 228.23061 | H14: =G14/($K$20+$M$20) -> 0.00031232095 | I14: {=SUM(IF(data!A2:A200="41-60 years",IF(data!B2:B200="30-70%",IF(data!C2:C200="Very Severe (>50%)",data!D2:D200,0),0),0))} -> 1915.2263 | J14: =I14/($K$20+$M$20) -> 0.0026208811 | K14: =SUM(C14,E14,G14,I14) -> 2758.1764 | L14: =K14/($K$20+$M$20) -> 0.0037744117 | M14: {=SUM(IF(data!A2:A200="41-60 years",IF(data!B2:B200="30-70%",IF(data!C2:C200="No Attack",data!D2:D200,0),0),0))} -> 1217.6414 | N14: =M14/($K$20+$M$20) -> 0.0016662748
B15: >70% | C15: {=SUM(IF(data!A2:A200="41-60 years",IF(data!B2:B200=">70%",IF(data!C2:C200="Light (<11%)",data!D2:D200,0),0),0))} -> 248.29926 | D15: =C15/($K$20+$M$20) -> 0.00033978379 | E15: {=SUM(IF(data!A2:A200="41-60 years",IF(data!B2:B200=">70%",IF(data!C2:C200="Moderate (11-30%)",data!D2:D200,0),0),0))} -> 415.26797 | F15: =E15/($K$20+$M$20) -> 0.00056827121 | G15: {=SUM(IF(data!A2:A200="41-60 years",IF(data!B2:B200=">70%",IF(data!C2:C200="Severe (31-50%)",data!D2:D200,0),0),0))} -> 162.2681 | H15: =G15/($K$20+$M$20) -> 0.00022205491 | I15: {=SUM(IF(data!A2:A200="41-60 years",IF(data!B2:B200=">70%",IF(data!C2:C200="Very Severe (>50%)",data!D2:D200,0),0),0))} -> 3517.258 | J15: =I15/($K$20+$M$20) -> 0.0048131728 | K15: =SUM(C15,E15,G15,I15) -> 4343.0934 | L15: =K15/($K$20+$M$20) -> 0.0059432827 | M15: {=SUM(IF(data!A2:A200="41-60 years",IF(data!B2:B200=">70%",IF(data!C2:C200="No Attack",data!D2:D200,0),0),0))} -> 1191.0214 | N15: =M15/($K$20+$M$20) -> 0.0016298469
A17: >60 years | B17: 30-70% | C17: {=SUM(IF(data!A2:A200=">60 years",IF(data!B2:B200="30-70%",IF(data!C2:C200="Light (<11%)",data!D2:D200,0),0),0))} -> 2281.0925 | D17: =C17/($K$20+$M$20) -> 0.0031215488 | E17: {=SUM(IF(data!A2:A200=">60 years",IF(data!B2:B200="30-70%",IF(data!C2:C200="Moderate (11-30%)",data!D2:D200,0),0),0))} -> 3572.124 | F17: =E17/($K$20+$M$20) -> 0.0048882539 | G17: {=SUM(IF(data!A2:A200=">60 years",IF(data!B2:B200="30-70%",IF(data!C2:C200="Severe (31-50%)",data!D2:D200,0),0),0))} -> 4892.9878 | H17: =G17/($K$20+$M$20) -> 0.0066957828 | I17: {=SUM(IF(data!A2:A200=">60 years",IF(data!B2:B200="30-70%",IF(data!C2:C200="Very Severe (>50%)",data!D2:D200,0),0),0))} -> 286459.79 | J17: =I17/($K$20+$M$20) -> 0.39200436 | K17: =SUM(C17,E17,G17,I17) -> 297206 | L17: =K17/($K$20+$M$20) -> 0.40670994 | M17: {=SUM(IF(data!A2:A200=">60 years",IF(data!B2:B200="30-70%",IF(data!C2:C200="No Attack",data!D2:D200,0),0),0))} -> 14560.465 | N17: =M17/($K$20+$M$20) -> 0.01992519
B18: >70% | C18: {=SUM(IF(data!A2:A200=">60 years",IF(data!B2:B200=">70%",IF(data!C2:C200="Light (<11%)",data!D2:D200,0),0),0))} -> 2018.3761 | D18: =C18/($K$20+$M$20) -> 0.0027620359 | E18: {=SUM(IF(data!A2:A200=">60 years",IF(data!B2:B200=">70%",IF(data!C2:C200="Moderate (11-30%)",data!D2:D200,0),0),0))} -> 2826.249 | F18: =E18/($K$20+$M$20) -> 0.0038675653 | G18: {=SUM(IF(data!A2:A200=">60 years",IF(data!B2:B200=">70%",IF(data!C2:C200="Severe (31-50%)",data!D2:D200,0),0),0))} -> 3838.0529 | H18: =G18/($K$20+$M$20) -> 0.0052521629 | I18: {=SUM(IF(data!A2:A200=">60 years",IF(data!B2:B200=">70%",IF(data!C2:C200="Very Severe (>50%)",data!D2:D200,0),0),0))} -> 349128.61 | J18: =I18/($K$20+$M$20) -> 0.47776317 | K18: =SUM(C18,E18,G18,I18) -> 357811.29 | L18: =K18/($K$20+$M$20) -> 0.48964493 | M18: {=SUM(IF(data!A2:A200=">60 years",IF(data!B2:B200=">70%",IF(data!C2:C200="No Attack",data!D2:D200,0),0),0))} -> 7725.6931 | N18: =M18/($K$20+$M$20) -> 0.010572183
A20: Total | C20: =SUM(C11:C18) -> 11673.329 | D20: =C20/($K$20+$M$20) -> 0.015974304 | E20: =SUM(E11:E18) -> 11248.802 | F20: =E20/($K$20+$M$20) -> 0.015393363 | G20: =SUM(G11:G18) -> 10766.46 | H20: =G20/($K$20+$M$20) -> 0.014733304 | I20: =SUM(I11:I18) -> 661256.43 | J20: =I20/($K$20+$M$20) -> 0.9048928 | K20: =SUM(K11:K18) -> 694945.02 | L20: =SUM(L11:L18) -> 0.95099377 | M20: =SUM(M11:M18) -> 35811.628 | N20: =SUM(N11:N18) -> 0.04900623

Sheet data
A1: Age Class | B1: Pine Density | C1: MPB Attack Severity | D1: Sum Of area_ha
A2: <21 years | B2: >70% | C2: Light (<11%) | D2: 696.20515
A3: <21 years | B3: >70% | C3: Light (<11%) | D3: 3927.5653
A4: <21 years | B4: >70% | C4: Light (<11%) | D4: 443.43265
A5: <21 years | B5: >70% | C5: Moderate (11-30%) | D5: 568.18222
A6: <21 years | B6: >70% | C6: Moderate (11-30%) | D6: 2678.0138
A7: <21 years | B7: >70% | C7: Moderate (11-30%) | D7: 115.96406
A8: <21 years | B8: >70% | C8: No Attack | D8: 1608.2888
A9: <21 years | B9: >70% | C9: No Attack | D9: 196.9756
A10: <21 years | B10: >70% | C10: No Attack | D10: 1207.8177
A11: <21 years | B11: >70% | C11: No Attack | D11: 1082.4286
A12: <21 years | B12: >70% | C12: Severe (31-50%) | D12: 159.92407
A13: <21 years | B13: >70% | C13: Severe (31-50%) | D13: 392.41484
... A123: 41-60 years | B123: 30-70% | C123: Very Severe (>50%) | D123: 664.27586

Sheet Sheet3
